Workbook

Sheet 償却資産申告書
O1: 帳票識別コード
O2: 申告区分 | Q2: ☐当初申告 ・ ☐修正申告
O3: 処理方式 | Q3: ☐一般処理 ・ ☐電算処理
E4: 令和 年 月 日 | G4: 令和 年度 | O4: 申告書等送付番号
D5: 大村市長 様 | G5: 償却資産申告書（償却資産課税台帳）
B6: 所有者 | C6: 1 | D6: フリガナ | I6: 5 | J6: 個人番号又は 法人番号 | O6: 10 | P6: 短縮耐用年数の承認 | R6: ☐有 ・ ☐無
D7: 住 所 (納税通知書送付先)
I8: 6 | J8: 事業種目 | O8: 11 | P8: 増加償却の届出 | R8: ☐有 ・ ☐無
D9: 電話番号
C10: 2 | D10: フリガナ | J10: 資本金又は出資金の額 | O10: 12 | P10: 非課税該当資産 | R10: ☐有 ・ ☐無
D11: 公簿上の住所 又は所在地
I12: 7 | J12: 事業開始年月 | O12: 13 | P12: 課税標準の特例 | R12: ☐有 ・ ☐無
C13: 3 | D13: フリガナ
D14: 氏 名 法人にあってはその 名称及び代表者の氏名 | I14: 8 | J14: この申告に応答する 者の係及び氏名 | O14: 14 | P14: 特別償却又は圧縮記帳 | R14: ☐有 ・ ☐無
J15: 電話番号 | O15: 15 | P15: 税務会計上の償却方法 | R15: ☐定率法 ・ ☐定額法
D16: 屋号 | I16: 9 | J16: 税理士等の氏名
C17: 4 | D17: 公簿上の生年月日 又は設立年月日 | O17: 16 | P17: 青色申告 | R17: ☐有 ・ ☐無
J18: 電話
B19: 資産の種類 | E19: 取得価額 | L19: 17 | M19: 市（区）町村内にお ける事業所等資産の 所在地
E20: 前年前に取得したもの | G20: 前年中に減少したもの | H20: 前年中に取得したもの | I20: 計（（イ）－（ロ）＋（ハ）） | N20: ① | S20: ☐自己所有家屋
E21: （イ） | G21: （ロ） | H21: （ハ） | I21: （ニ） | S21: ☐借家
B22: 1 | C22: 構築物 | I22: =E22-G22+H22 -> 0 | N22: ② | S22: ☐自己所有家屋
S23: ☐借家
B24: 2 | C24: 機械及び 装置 | I24: =E24-G24+H24 -> 0 | N24: ③ | S24: ☐自己所有家屋
S25: ☐借家
B26: 3 | C26: 船舶 | I26: =E26-G26+H26 -> 0 | L26: 18 | M26: 借用資産 | N26: ☐有 ・ ☐無
B27: 4 | C27: 航空機 | I27: =E27-G27+H27 -> 0 | M27: 貸主の名称等
B28: 5 | C28: 車両及び 運搬具 | I28: =E28-G28+H28 -> 0
B29: 6 | C29: 工具、器具 及び備品 | I29: =E29-G29+H29 -> 0 | L29: 19 | M29: ☐ 資産に増減なし
B30: 7 | C30: 合計 | E30: =SUM(E22:E29) -> 0 | G30: =SUM(G22:G29) -> 0 | H30: =SUM(H22:H29) -> 0 | I30: =E30-G30+H30 -> 0
L31: 20 | M31: ☐ 該当資産なし
B32: 資産の種類 | E32: ※ | G32: ※ | H32: ※ | I32: 数量
E33: 評価額 | G33: 決定価格 | H33: 課税標準額 | L33: 21 | M33: ☐ 転出・廃業・解散・その他（ ） | Q33: （令和 年 月 日）
E34: （ホ） | G34: （ヘ） | H34: （ト）
B35: 1 | C35: 構築物 | L35: 22 | M35: 備考（添付書類等）
B36: 2 | C36: 機械及び 装置
B37: 3 | C37: 船舶
B38: 4 | C38: 航空機
B39: 5 | C39: 車両及び 運搬具
B40: 6 | C40: 工具、器具 及び備品
...

Sheet 種類別明細書_全資産・プレ申告
R1: 帳票識別コード | T1: =償却資産申告書!Q1 -> 0
R2: 申告区分 | T2: =償却資産申告書!Q2 -> ☐当初申告 ・ ☐修正申告
H3: =償却資産申告書!G4 -> 令和 年度 | R3: 処理方式 | T3: =償却資産申告書!Q3 -> ☐一般処理 ・ ☐電算処理
B4: 所有者名 | H4: 種類別明細書（全資産用・プレ申告用） | R4: 申告書等送付番号
B5: =償却資産申告書!E14 -> 0 | R5: =償却資産申告書!O5 -> 0
B6: 行 番 号 | C6: 異動区分 | D6: 資産の種類 | E6: 物件番号 | F6: 資産の名称等 | I6: 数 量 | J6: 取得年月 （注３） | M6: 元日取得 | N6: （イ） | O6: 耐用年数 | P6: （ロ） | R6: （ハ） | S6: ※ | U6: ※ | V6: 増減事由 | W6: 摘 要
N7: 取 得 価 額 | P7: 減価残存率 | Q7: 価額 | S7: 課税標準 の特例 | U7: 課税標準額
J8: 年号 | K8: 年 | L8: 月
S9: 率 | T9: コード
B10: 1
B11: 2
B12: 3
B13: 4
B14: 5
B15: 6
B16: 7
B17: 8
B18: 9
B19: 10
B20: 11
B21: 12
... B29: 20
H30: 小 計 | I30: =SUM(I10:I29) -> 0 | N30: =SUM(N10:N29) -> 0 | Q30: =SUM(Q10:Q29) -> 0 | U30: =SUM(U10:U29) -> 0
F31: 注意１ | G31: 「異動区分」の欄は、１ 増加、２ 減少、３ 訂正 のいずれかの数字をご記載ください。
F32: 注意２ | G32: 「資産の種類」の欄は、１ 構築物 ２ 機械及び装置 ３ 船舶 ４ 航空機 ５ 車両及び運搬具 ６ 工具、器具及び備品 のいずれかの数字をご記載ください。
F33: 注意３ | G33: 「取得年月」の欄は、 ３ 昭和 ４ 平成 ５ 令和 のいずれかの数字をご記載ください。
F34: 注意４ | G34: 「元日取得」の欄は、元日（１月１日）に取得した場合には１をご記載ください。
F35: 注意５ | G35: 「処理方式」が「一般処理」の場合、「異動区分」が２減少の資産について、「（ｲ）取得価額」は減少後の「取得価額」（(例)全部減少の場合は「０」が入ります）をご記載ください。
F36: 注意６ | G36: 「増減事由」の欄は、 １新品取得、 ２中古品取得、 ３売却、 ４滅失、 ５移動、 ６その他 のいずれかの数字をご記載ください。

Sheet 種類別明細書_増減資産用
R1: 帳票識別コード | T1: =償却資産申告書!Q1 -> 0
R2: 申告区分 | T2: =償却資産申告書!Q2 -> ☐当初申告 ・ ☐修正申告
H3: =償却資産申告書!G4 -> 令和 年度 | R3: 処理方式 | T3: =償却資産申告書!Q3 -> ☐一般処理 ・ ☐電算処理
B4: 所有者名 | H4: 種類別明細書（増減資産用） | R4: 申告書等送付番号
B5: =償却資産申告書!E14 -> 0 | R5: =償却資産申告書!O5 -> 0
B6: 行 番 号 | C6: 異動区分 | D6: 資産の種類 | E6: 物件番号 | F6: 資産の名称等 | I6: 数 量 | J6: 取得年月 （注３） | M6: 元日取得 | N6: 取 得 価 額 | O6: 耐用年数 | P6: 申告年度 | Q6: 増減事由 | S6: 摘 要
J7: 年号 | K7: 年 | L7: 月
B9: 1
B10: 2
B11: 3
B12: 4
B13: 5
B14: 6
B15: 7
B16: 8
B17: 9
B18: 10
B19: 11
B20: 12
... B28: 20
H29: 小 計 | I29: =SUM(I9:I28) -> 0 | N29: =SUM(N9:N28) -> 0
F30: 注意１ | G30: 「異動区分」の欄は、１ 増加、２ 減少、３ 訂正 のいずれかの数字をご記載ください。
F31: 注意２ | G31: 「資産の種類」の欄は、１ 構築物 ２ 機械及び装置 ３ 船舶 ４ 航空機 ５ 車両及び運搬具 ６ 工具、器具及び備品 のいずれかの数字をご記載ください。
F32: 注意３ | G32: 「取得年月」の欄は、 ３ 昭和 ４ 平成 ５ 令和 のいずれかの数字をご記載ください。
F33: 注意４ | G33: 「元日取得」の欄は、元日（１月１日）に取得した場合には１をご記載ください。
F34: 注意５ | G34: 「異動区分」が２減少の場合、「取得価額」の欄に減少後の「取得価額」（(例)全部減少の場合は「０」が入ります）を、「摘要」の欄に減少前の「取得価額」をご記載ください。
F35: 注意６ | G35: 「増減事由」の欄は、 １新品取得、 ２中古品取得、 ３売却、 ４滅失、 ５移動、 ６その他 のいずれかの数字をご記載ください。
